{"text_format":"1","workbook":"xlsx","n_sheets":6,"sheets":["入力","エントリーシート","冊子制作用","オーダー用紙","IF用紙","エントリー変更用紙"],"not_rendered":{"charts":0,"images":0,"macros":1,"external_links":0,"defined_names":1,"comments":0,"pivot_tables":0},"unopened":[],"bounds":{"document_bytes":16777216,"sheet_cells":100000,"rows_first":2000,"rows_last":500,"rows_between":2000,"halvings":0,"cell_chars":16384,"cell_head_chars":4096},"cells_cut":0,"cells_raw":0,"read":"whole","date_system":"1900"}

{"sheet":"入力","index":0,"n_rows":47,"n_cols":7,"rows_kept":47,"cut":false,"hidden":false,"merged":[[1,2,1,5],[2,2,2,5],[4,2,4,5],[1,0,1,1],[2,0,2,1],[4,0,4,1],[5,0,5,1],[6,0,6,1],[3,0,3,1],[5,2,5,5],[7,2,7,5],[3,2,3,5],[6,2,6,5],[19,0,19,1],[18,0,18,1],[16,0,16,1],[15,0,15,1],[7,0,7,1],[10,0,10,1],[17,0,17,1],[12,0,13,1],[11,0,11,1]]}
["※自動読み込みを行うため、セルの挿入や削除などによるセル位置の変更を行わないこと！"]
["大会名",null,"第133回那覇市小学生バレーボール大会"]
["性別",null,"男or女（該当以外は削除してください）"]
["チーム名"]
["責任者氏名"]
[]
[]
[]
[]
[]
["感染対策責任者",null,null,"　"]
[null,null,null,"　"]
[null,null,null,"　"]
[null,null,null,"　"]
[]
["監督",null,null,"　　"]
["コーチ",null,null,"　"]
["マネージャー"]
["部長",null,null,"　","都道府県名","ﾖﾐｶﾞﾅ(半角ｶﾅ)","ライセンス(A/B/C/N)"]
["帯同審判員",null,null,"⇒⇒⇒⇒"]
[]
[null,"競技者番号","選　　手　　名","学校名","学年","身長","JVA-MRS ID"]
[1,"①"]
[2,2]
[3,3]
[4,4]
[5,5]
[6,6]
[7,7]
[8,8]
[9,9]
[10,10]
[11,11]
[12,12]
[13]
[14]
[15]
[16]
[17]
[18]
[19]
[20]
[21]
[22]
[23]
[24]
[25]

{"sheet":"エントリーシート","index":1,"n_rows":44,"n_cols":10,"rows_kept":44,"cut":false,"hidden":false,"merged":[[39,9,40,9],[41,0,42,0],[41,1,42,1],[41,2,42,5],[41,6,42,6],[41,7,42,7],[41,8,42,8],[41,9,42,9],[39,0,40,0],[39,1,40,1],[39,2,40,5],[39,6,40,6],[39,7,40,7],[39,8,40,8],[35,9,36,9],[37,0,38,0],[37,1,38,1],[37,2,38,5],[37,6,38,6],[37,7,38,7],[37,8,38,8],[37,9,38,9],[35,0,36,0],[35,1,36,1],[35,2,36,5],[35,6,36,6],[35,7,36,7],[35,8,36,8],[2,0,2,9],[3,0,3,2],[3,3,3,7],[3,8,3,9],[4,0,6,0],[4,1,4,2],[4,3,4,7],[4,8,4,9],[5,1,5,2],[5,3,5,7],[5,8,5,9],[6,1,6,2],[6,3,6,7],[6,8,6,9],[10,2,10,5],[11,0,12,0],[11,1,12,1],[11,6,12,6],[11,7,12,7],[7,0,8,0],[9,0,9,3],[9,4,9,9],[13,9,14,9],[13,2,14,5],[7,4,8,4],[7,7,8,7],[13,0,14,0],[11,8,12,8],[11,9,12,9],[15,8,16,8],[15,9,16,9],[17,1,18,1],[17,6,18,6],[17,7,18,7],[17,8,18,8],[17,9,18,9],[13,1,14,1],[13,6,14,6],[13,7,14,7],[13,8,14,8],[15,0,16,0],[15,1,16,1],[19,0,20,0],[19,1,20,1],[19,6,20,6],[19,7,20,7],[17,2,18,5],[19,2,20,5],[15,2,16,5],[17,0,18,0],[15,6,16,6],[15,7,16,7],[21,0,22,0],[21,1,22,1],[21,6,22,6],[21,7,22,7],[21,8,22,8],[21,9,22,9],[21,2,22,5],[23,2,24,5],[19,8,20,8],[19,9,20,9],[23,8,24,8],[23,9,24,9],[23,0,24,0],[23,1,24,1],[27,0,28,0],[27,1,28,1],[27,6,28,6],[27,7,28,7],[25,2,26,5],[27,2,28,5],[25,0,26,0],[25,1,26,1],[29,2,30,5],[31,2,32,5],[31,8,32,8],[31,9,32,9],[25,6,26,6],[25,7,26,7],[25,8,26,8],[25,9,26,9],[23,6,24,6],[23,7,24,7],[27,8,28,8],[27,9,28,9],[43,0,43,4],[43,7,43,9],[0,0,1,9],[7,1,8,3],[7,5,8,6],[7,8,8,9],[11,2,12,5],[33,0,34,0],[33,1,34,1],[33,6,34,6],[33,7,34,7],[33,8,34,8],[33,9,34,9],[31,0,32,0],[31,1,32,1],[33,2,34,5],[29,0,30,0],[29,1,30,1],[29,6,30,6],[29,7,30,7],[29,8,30,8],[29,9,30,9],[31,6,32,6],[31,7,32,7]]}
[{"$f":"+(入力!C2)","v":"第133回那覇市小学生バレーボール大会"}]
[]
[]
["チーム名",null,null,{"$f":"+(入力!C4)","v":0},null,null,null,null,{"$f":"+(入力!C3)","v":"男or女（該当以外は削除してください）"}]
["連　絡　先",null,null,{"$f":"+(入力!C5)","v":0},null,null,null,null,{"$f":"+(入力!C6)","v":0}]
[null,null,null,{"$f":"+(入力!C7)","v":0},null,null,null,null,{"$f":"+(入力!C8)","v":0}]
[null,"感染対策責任者",null,{"$f":"+(入力!C11)","v":0},null,null,null,null,{"$f":"+(入力!C12)","v":0}]
["監督",{"$f":"+(入力!C16)","v":0},null,null,"コーチ",{"$f":"+(入力!C17)","v":0},null,"ﾏﾈｰｼﾞｬｰ",{"$f":"+(入力!C18)","v":0}]
[]
["帯同審判員",null,null,null,{"$f":"+(入力!C20)","v":0}]
["番号","背番号","選　手　氏　名",null,null,null,"小学校名","学年","身長","JVA-MRS ID"]
["１",{"$f":"+(入力!B23)","v":"①"},{"$f":"+(入力!C23)","v":0},{"$f":"+(入力!D23)","v":0},{"$f":"+(入力!E23)","v":0},{"$f":"+(入力!F23)","v":0},{"$f":"+(入力!D23)","v":0},{"$f":"+(入力!E23)","v":0},{"$f":"+(入力!F23)","v":0},{"$f":"+(入力!G23)","v":0}]
[]
["２",{"$f":"+(入力!B24)","v":2},{"$f":"+(入力!C24)","v":0},{"$f":"+(入力!D24)","v":0},{"$f":"+(入力!E24)","v":0},{"$f":"+(入力!F24)","v":0},{"$f":"+(入力!D24)","v":0},{"$f":"+(入力!E24)","v":0},{"$f":"+(入力!F24)","v":0},{"$f":"+(入力!G24)","v":0}]
[]
["３",{"$f":"+(入力!B25)","v":3},{"$f":"+(入力!C25)","v":0},{"$f":"+(入力!D25)","v":0},{"$f":"+(入力!E25)","v":0},{"$f":"+(入力!F25)","v":0},{"$f":"+(入力!D25)","v":0},{"$f":"+(入力!E25)","v":0},{"$f":"+(入力!F25)","v":0},{"$f":"+(入力!G25)","v":0}]
[]
["４",{"$f":"+(入力!B26)","v":4},{"$f":"+(入力!C26)","v":0},{"$f":"+(入力!D26)","v":0},{"$f":"+(入力!E26)","v":0},{"$f":"+(入力!F26)","v":0},{"$f":"+(入力!D26)","v":0},{"$f":"+(入力!E26)","v":0},{"$f":"+(入力!F26)","v":0},{"$f":"+(入力!G26)","v":0}]
[]
["５",{"$f":"+(入力!B27)","v":5},{"$f":"+(入力!C27)","v":0},{"$f":"+(入力!D27)","v":0},{"$f":"+(入力!E27)","v":0},{"$f":"+(入力!F27)","v":0},{"$f":"+(入力!D27)","v":0},{"$f":"+(入力!E27)","v":0},{"$f":"+(入力!F27)","v":0},{"$f":"+(入力!G27)","v":0}]
[]
["６",{"$f":"+(入力!B28)","v":6},{"$f":"+(入力!C28)","v":0},{"$f":"+(入力!D28)","v":0},{"$f":"+(入力!E28)","v":0},{"$f":"+(入力!F28)","v":0},{"$f":"+(入力!D28)","v":0},{"$f":"+(入力!E28)","v":0},{"$f":"+(入力!F28)","v":0},{"$f":"+(入力!G28)","v":0}]
[]
["７",{"$f":"+(入力!B29)","v":7},{"$f":"+(入力!C29)","v":0},{"$f":"+(入力!D29)","v":0},{"$f":"+(入力!E29)","v":0},{"$f":"+(入力!F29)","v":0},{"$f":"+(入力!D29)","v":0},{"$f":"+(入力!E29)","v":0},{"$f":"+(入力!F29)","v":0},{"$f":"+(入力!G29)","v":0}]
[]
["８",{"$f":"+(入力!B30)","v":8},{"$f":"+(入力!C30)","v":0},{"$f":"+(入力!D30)","v":0},{"$f":"+(入力!E30)","v":0},{"$f":"+(入力!F30)","v":0},{"$f":"+(入力!D30)","v":0},{"$f":"+(入力!E30)","v":0},{"$f":"+(入力!F30)","v":0},{"$f":"+(入力!G30)","v":0}]
[]
["９",{"$f":"+(入力!B31)","v":9},{"$f":"+(入力!C31)","v":0},{"$f":"+(入力!D31)","v":0},{"$f":"+(入力!E31)","v":0},{"$f":"+(入力!F31)","v":0},{"$f":"+(入力!D31)","v":0},{"$f":"+(入力!E31)","v":0},{"$f":"+(入力!F31)","v":0},{"$f":"+(入力!G31)","v":0}]
[]
["１０",{"$f":"+(入力!B32)","v":10},{"$f":"+(入力!C32)","v":0},{"$f":"+(入力!D32)","v":0},{"$f":"+(入力!E32)","v":0},{"$f":"+(入力!F32)","v":0},{"$f":"+(入力!D32)","v":0},{"$f":"+(入力!E32)","v":0},{"$f":"+(入力!F32)","v":0},{"$f":"+(入力!G32)","v":0}]
[]
["１１",{"$f":"+(入力!B33)","v":11},{"$f":"+(入力!C33)","v":0},{"$f":"+(入力!D33)","v":0},{"$f":"+(入力!E33)","v":0},{"$f":"+(入力!F33)","v":0},{"$f":"+(入力!D33)","v":0},{"$f":"+(入力!E33)","v":0},{"$f":"+(入力!F33)","v":0},{"$f":"+(入力!G33)","v":0}]
[]
["１２",{"$f":"+(入力!B34)","v":12},{"$f":"+(入力!C34)","v":0},{"$f":"+(入力!D34)","v":0},{"$f":"+(入力!E34)","v":0},{"$f":"+(入力!F34)","v":0},{"$f":"+(入力!D34)","v":0},{"$f":"+(入力!E34)","v":0},{"$f":"+(入力!F34)","v":0},{"$f":"+(入力!G34)","v":0}]
[]
["１３",{"$f":"+(入力!B35)","v":0},{"$f":"+(入力!C35)","v":0},{"$f":"+(入力!D39)","v":0},{"$f":"+(入力!E39)","v":0},{"$f":"+(入力!F39)","v":0},{"$f":"+(入力!D35)","v":0},{"$f":"+(入力!E35)","v":0},{"$f":"+(入力!F35)","v":0},{"$f":"+(入力!G35)","v":0}]
[]
["１４",{"$f":"+(入力!B36)","v":0},{"$f":"+(入力!C36)","v":0},{"$f":"+(入力!D38)","v":0},{"$f":"+(入力!E38)","v":0},{"$f":"+(入力!F38)","v":0},{"$f":"+(入力!D36)","v":0},{"$f":"+(入力!E36)","v":0},{"$f":"+(入力!F36)","v":0},{"$f":"+(入力!G36)","v":0}]
[]
["１５",{"$f":"+(入力!B37)","v":0},{"$f":"+(入力!C37)","v":0},{"$f":"+(入力!D41)","v":0},{"$f":"+(入力!E41)","v":0},{"$f":"+(入力!F41)","v":0},{"$f":"+(入力!D37)","v":0},{"$f":"+(入力!E37)","v":0},{"$f":"+(入力!F37)","v":0},{"$f":"+(入力!G37)","v":0}]
[]
["１６",{"$f":"+(入力!B38)","v":0},{"$f":"+(入力!C38)","v":0},{"$f":"+(入力!D42)","v":0},{"$f":"+(入力!E42)","v":0},{"$f":"+(入力!F42)","v":0},{"$f":"+(入力!D38)","v":0},{"$f":"+(入力!E38)","v":0},{"$f":"+(入力!F38)","v":0},{"$f":"+(入力!G38)","v":0}]
[]
["※主将は背番号を○で囲んで下さい"]

{"sheet":"冊子制作用","index":2,"n_rows":26,"n_cols":5,"rows_kept":26,"cut":false,"hidden":false,"merged":[[25,1,25,2],[10,1,10,2],[11,1,11,2],[12,1,12,2],[13,1,13,2],[14,1,14,2],[21,1,21,2],[15,1,15,2],[16,1,16,2],[17,1,17,2],[18,1,18,2],[19,1,19,2],[20,1,20,2],[22,1,22,2],[23,1,23,2],[24,1,24,2],[9,1,9,2],[1,1,2,3],[6,1,6,4],[7,1,7,4],[8,1,8,4],[4,0,5,4]]}
[]
[null,"【　　　　　　　の部】"]
[]
[]
[{"$f":"エントリーシート!$D$4","v":0}]
[]
["監　　督",{"$f":"+(入力!C16)","v":0}]
["コ ー チ",{"$f":"+(入力!C17)","v":0}]
["マネージャー",{"$f":"+(入力!C18)","v":0}]
["背番号","氏名",null,"学年","身長"]
[{"$f":"+(入力!B23)","v":"①"},{"$f":"+(入力!C23)","v":0},null,{"$f":"+(入力!E23)","v":0},{"$f":"+(入力!F23)","v":0}]
[{"$f":"+(入力!B24)","v":2},{"$f":"+(入力!C24)","v":0},null,{"$f":"+(入力!E24)","v":0},{"$f":"+(入力!F24)","v":0}]
[{"$f":"+(入力!B25)","v":3},{"$f":"+(入力!C25)","v":0},null,{"$f":"+(入力!E25)","v":0},{"$f":"+(入力!F25)","v":0}]
[{"$f":"+(入力!B26)","v":4},{"$f":"+(入力!C26)","v":0},null,{"$f":"+(入力!E26)","v":0},{"$f":"+(入力!F26)","v":0}]
[{"$f":"+(入力!B27)","v":5},{"$f":"+(入力!C27)","v":0},null,{"$f":"+(入力!E27)","v":0},{"$f":"+(入力!F27)","v":0}]
[{"$f":"+(入力!B28)","v":6},{"$f":"+(入力!C28)","v":0},null,{"$f":"+(入力!E28)","v":0},{"$f":"+(入力!F28)","v":0}]
[{"$f":"+(入力!B29)","v":7},{"$f":"+(入力!C29)","v":0},null,{"$f":"+(入力!E29)","v":0},{"$f":"+(入力!F29)","v":0}]
[{"$f":"+(入力!B30)","v":8},{"$f":"+(入力!C30)","v":0},null,{"$f":"+(入力!E30)","v":0},{"$f":"+(入力!F30)","v":0}]
[{"$f":"+(入力!B31)","v":9},{"$f":"+(入力!C31)","v":0},null,{"$f":"+(入力!E31)","v":0},{"$f":"+(入力!F31)","v":0}]
[{"$f":"+(入力!B32)","v":10},{"$f":"+(入力!C32)","v":0},null,{"$f":"+(入力!E32)","v":0},{"$f":"+(入力!F32)","v":0}]
[{"$f":"+(入力!B33)","v":11},{"$f":"+(入力!C33)","v":0},null,{"$f":"+(入力!E33)","v":0},{"$f":"+(入力!F33)","v":0}]
[{"$f":"+(入力!B34)","v":12},{"$f":"+(入力!C34)","v":0},null,{"$f":"+(入力!E34)","v":0},{"$f":"+(入力!F34)","v":0}]
[{"$f":"+(入力!B35)","v":0},{"$f":"+(入力!C35)","v":0},null,{"$f":"+(入力!E35)","v":0},{"$f":"+(入力!F35)","v":0}]
[{"$f":"+(入力!B36)","v":0},{"$f":"+(入力!C36)","v":0},null,{"$f":"+(入力!E36)","v":0},{"$f":"+(入力!F36)","v":0}]
[{"$f":"+(入力!B37)","v":0},{"$f":"+(入力!C37)","v":0},null,{"$f":"+(入力!E37)","v":0},{"$f":"+(入力!F37)","v":0}]
[{"$f":"+(入力!B38)","v":0},{"$f":"+(入力!C38)","v":0},null,{"$f":"+(入力!E38)","v":0},{"$f":"+(入力!F38)","v":0}]

{"sheet":"オーダー用紙","index":3,"n_rows":33,"n_cols":35,"rows_kept":33,"cut":false,"hidden":false,"merged":[[11,0,11,1],[11,2,11,4],[11,12,11,13],[11,14,11,16],[11,24,11,25],[11,26,11,28],[22,0,22,1],[18,5,18,6],[18,8,18,9],[18,17,18,18],[18,20,18,21],[15,5,15,6],[15,8,15,9],[15,17,15,18],[15,20,15,21],[31,30,31,31],[31,33,31,34],[32,4,32,6],[32,7,32,10],[32,16,32,18],[32,19,32,22],[32,28,32,30],[32,31,32,34],[30,0,30,10],[30,12,30,22],[30,24,30,34],[31,0,32,0],[31,6,31,7],[31,9,31,10],[31,12,32,12],[31,18,31,19],[31,21,31,22],[31,24,32,24],[29,5,29,6],[29,8,29,9],[29,17,29,18],[29,20,29,21],[29,29,29,30],[29,32,29,33],[28,5,28,6],[28,8,28,9],[28,17,28,18],[28,20,28,21],[28,29,28,30],[28,32,28,33],[27,5,27,6],[27,8,27,9],[27,17,27,18],[27,20,27,21],[27,29,27,30],[27,32,27,33],[26,5,26,6],[26,8,26,9],[26,17,26,18],[26,20,26,21],[26,29,26,30],[26,32,26,33],[25,5,25,6],[25,8,25,9],[25,17,25,18],[25,20,25,21],[25,29,25,30],[25,32,25,33],[24,5,24,6],[24,8,24,9],[24,17,24,18],[24,20,24,21],[24,29,24,30],[24,32,24,33],[22,29,22,30],[22,31,22,34],[23,3,23,4],[23,5,23,10],[23,15,23,16],[23,17,23,22],[23,27,23,28],[23,29,23,34],[22,2,22,4],[22,5,22,6],[22,7,22,10],[22,17,22,18],[22,19,22,22],[22,12,22,13],[22,14,22,16],[22,24,22,25],[22,26,22,28],[20,30,20,31],[20,33,20,34],[21,4,21,6],[21,7,21,10],[21,16,21,18],[21,19,21,22],[21,28,21,30],[21,31,21,34],[19,0,19,10],[19,12,19,22],[19,24,19,34],[20,0,21,0],[20,6,20,7],[20,9,20,10],[20,12,21,12],[20,18,20,19],[20,21,20,22],[20,24,21,24],[18,29,18,30],[18,32,18,33],[17,5,17,6],[17,8,17,9],[17,17,17,18],[17,20,17,21],[17,29,17,30],[17,32,17,33],[16,5,16,6],[16,8,16,9],[16,17,16,18],[16,20,16,21],[16,29,16,30],[16,32,16,33],[15,29,15,30],[15,32,15,33],[14,5,14,6],[14,8,14,9],[14,17,14,18],[14,20,14,21],[14,29,14,30],[14,32,14,33],[13,5,13,6],[13,8,13,9],[13,17,13,18],[13,20,13,21],[13,29,13,30],[13,32,13,33],[11,29,11,30],[11,31,11,34],[12,3,12,4],[12,5,12,10],[12,15,12,16],[12,17,12,22],[12,27,12,28],[12,29,12,34],[11,5,11,6],[11,7,11,10],[11,17,11,18],[11,19,11,22],[9,30,9,31],[9,33,9,34],[10,4,10,6],[10,7,10,10],[10,16,10,18],[10,19,10,22],[10,28,10,30],[10,31,10,34],[8,0,8,10],[8,12,8,22],[8,24,8,34],[9,0,10,0],[9,6,9,7],[9,9,9,10],[9,12,10,12],[9,18,9,19],[9,21,9,22],[9,24,10,24],[7,29,7,30],[7,32,7,33],[6,5,6,6],[6,8,6,9],[6,17,6,18],[6,20,6,21],[6,29,6,30],[6,32,6,33],[5,5,5,6],[5,8,5,9],[5,17,5,18],[5,20,5,21],[5,29,5,30],[5,32,5,33],[7,5,7,6],[7,8,7,9],[7,17,7,18],[7,20,7,21],[4,8,4,9],[4,17,4,18],[4,20,4,21],[4,29,4,30],[4,32,4,33],[3,5,3,6],[3,8,3,9],[3,17,3,18],[3,20,3,21],[3,29,3,30],[3,32,3,33],[4,5,4,6],[2,5,2,6],[2,8,2,9],[2,17,2,18],[2,20,2,21],[2,29,2,30],[2,32,2,33],[0,17,0,18],[0,19,0,22],[0,29,0,30],[0,31,0,34],[0,24,0,25],[0,26,0,28],[1,3,1,4],[1,5,1,10],[1,15,1,16],[1,17,1,22],[1,27,1,28],[1,29,1,34],[0,0,0,1],[0,2,0,4],[0,5,0,6],[0,7,0,10],[0,12,0,13],[0,14,0,16]]}
["ﾁｰﾑ名",null,{"$f":"エントリーシート!$D$4","v":0},null,null,"ＳＲ",null,"セット",null,null,null,null,"ﾁｰﾑ名",null,{"$f":"$C$1","v":0},null,null,"ＳＲ",null,"セット",null,null,null,null,"ﾁｰﾑ名",null,{"$f":"$C$1","v":0},null,null,"ＳＲ",null,"セット"]
["ｻｰﾌﾞ順","先発","交代","交代得点",null,"サービス・得点チェック",null,null,null,null,null,null,"ｻｰﾌﾞ順","先発","交代","交代得点",null,"サービス・得点チェック",null,null,null,null,null,null,"ｻｰﾌﾞ順","先発","交代","交代得点",null,"サービス・得点チェック"]
["１",null,null,null,null,"1",null,"2","3",null,"4",null,"１",null,null,null,null,"1",null,"2","3",null,"4",null,"１",null,null,null,null,"1",null,"2","3",null,"4"]
["２",null,null,null,null,"1",null,"2","3",null,"4",null,"２",null,null,null,null,"1",null,"2","3",null,"4",null,"２",null,null,null,null,"1",null,"2","3",null,"4"]
["３",null,null,null,null,"1",null,"2","3",null,"4",null,"３",null,null,null,null,"1",null,"2","3",null,"4",null,"３",null,null,null,null,"1",null,"2","3",null,"4"]
["４",null,null,null,null,"1",null,"2","3",null,"4",null,"４",null,null,null,null,"1",null,"2","3",null,"4",null,"４",null,null,null,null,"1",null,"2","3",null,"4"]
["５",null,null,null,null,"1",null,"2","3",null,"4",null,"５",null,null,null,null,"1",null,"2","3",null,"4",null,"５",null,null,null,null,"1",null,"2","3",null,"4"]
["６",null,null,null,null,"1",null,"2","3",null,"4",null,"６",null,null,null,null,"1",null,"2","3",null,"4",null,"６",null,null,null,null,"1",null,"2","3",null,"4"]
["1 2 3 4 5 6 7 8 9 10 11 12 13 14 15 16 17 18 19 20 21 22 23 24 25 26 27 28 29 30 31 32 33",null,null,null,null,null,null,null,null,null,null,null,"1 2 3 4 5 6 7 8 9 10 11 12 13 14 15 16 17 18 19 20 21 22 23 24 25 26 27 28 29 30 31 32 33",null,null,null,null,null,null,null,null,null,null,null,"1 2 3 4 5 6 7 8 9 10 11 12 13 14 15 16 17 18 19 20 21 22 23 24 25 26 27 28 29 30 31 32 33"]
["控え選手",null,null,null,"ﾀｲﾑ","1",":",null,"２",":",null,null,"控え選手",null,null,null,"ﾀｲﾑ","1",":",null,"２",":",null,null,"控え選手",null,null,null,"ﾀｲﾑ","1",":",null,"２",":"]
[null,null,null,null,"監督サイン",null,null,null,null,null,null,null,null,null,null,null,"監督サイン",null,null,null,null,null,null,null,null,null,null,null,"監督サイン"]
["ﾁｰﾑ名",null,{"$f":"$C$1","v":0},null,null,"ＳＲ",null,"セット",null,null,null,null,"ﾁｰﾑ名",null,{"$f":"$C$1","v":0},null,null,"ＳＲ",null,"セット",null,null,null,null,"ﾁｰﾑ名",null,{"$f":"$C$1","v":0},null,null,"ＳＲ",null,"セット"]
["ｻｰﾌﾞ順","先発","交代","交代得点",null,"サービス・得点チェック",null,null,null,null,null,null,"ｻｰﾌﾞ順","先発","交代","交代得点",null,"サービス・得点チェック",null,null,null,null,null,null,"ｻｰﾌﾞ順","先発","交代","交代得点",null,"サービス・得点チェック"]
["１",null,null,null,null,"1",null,"2","3",null,"4",null,"１",null,null,null,null,"1",null,"2","3",null,"4",null,"１",null,null,null,null,"1",null,"2","3",null,"4"]
["２",null,null,null,null,"1",null,"2","3",null,"4",null,"２",null,null,null,null,"1",null,"2","3",null,"4",null,"２",null,null,null,null,"1",null,"2","3",null,"4"]
["３",null,null,null,null,"1",null,"2","3",null,"4",null,"３",null,null,null,null,"1",null,"2","3",null,"4",null,"３",null,null,null,null,"1",null,"2","3",null,"4"]
["４",null,null,null,null,"1",null,"2","3",null,"4",null,"４",null,null,null,null,"1",null,"2","3",null,"4",null,"４",null,null,null,null,"1",null,"2","3",null,"4"]
["５",null,null,null,null,"1",null,"2","3",null,"4",null,"５",null,null,null,null,"1",null,"2","3",null,"4",null,"５",null,null,null,null,"1",null,"2","3",null,"4"]
["６",null,null,null,null,"1",null,"2","3",null,"4",null,"６",null,null,null,null,"1",null,"2","3",null,"4",null,"６",null,null,null,null,"1",null,"2","3",null,"4"]
["1 2 3 4 5 6 7 8 9 10 11 12 13 14 15 16 17 18 19 20 21 22 23 24 25 26 27 28 29 30 31 32 33",null,null,null,null,null,null,null,null,null,null,null,"1 2 3 4 5 6 7 8 9 10 11 12 13 14 15 16 17 18 19 20 21 22 23 24 25 26 27 28 29 30 31 32 33",null,null,null,null,null,null,null,null,null,null,null,"1 2 3 4 5 6 7 8 9 10 11 12 13 14 15 16 17 18 19 20 21 22 23 24 25 26 27 28 29 30 31 32 33"]
["控え選手",null,null,null,"ﾀｲﾑ","1",":",null,"２",":",null,null,"控え選手",null,null,null,"ﾀｲﾑ","1",":",null,"２",":",null,null,"控え選手",null,null,null,"ﾀｲﾑ","1",":",null,"２",":"]
[null,null,null,null,"監督サイン",null,null,null,null,null,null,null,null,null,null,null,"監督サイン",null,null,null,null,null,null,null,null,null,null,null,"監督サイン"]
["ﾁｰﾑ名",null,{"$f":"$C$1","v":0},null,null,"ＳＲ",null,"セット",null,null,null,null,"ﾁｰﾑ名",null,{"$f":"$C$1","v":0},null,null,"ＳＲ",null,"セット",null,null,null,null,"ﾁｰﾑ名",null,{"$f":"$C$1","v":0},null,null,"ＳＲ",null,"セット"]
["ｻｰﾌﾞ順","先発","交代","交代得点",null,"サービス・得点チェック",null,null,null,null,null,null,"ｻｰﾌﾞ順","先発","交代","交代得点",null,"サービス・得点チェック",null,null,null,null,null,null,"ｻｰﾌﾞ順","先発","交代","交代得点",null,"サービス・得点チェック"]
["１",null,null,null,null,"1",null,"2","3",null,"4",null,"１",null,null,null,null,"1",null,"2","3",null,"4",null,"１",null,null,null,null,"1",null,"2","3",null,"4"]
["２",null,null,null,null,"1",null,"2","3",null,"4",null,"２",null,null,null,null,"1",null,"2","3",null,"4",null,"２",null,null,null,null,"1",null,"2","3",null,"4"]
["３",null,null,null,null,"1",null,"2","3",null,"4",null,"３",null,null,null,null,"1",null,"2","3",null,"4",null,"３",null,null,null,null,"1",null,"2","3",null,"4"]
["４",null,null,null,null,"1",null,"2","3",null,"4",null,"４",null,null,null,null,"1",null,"2","3",null,"4",null,"４",null,null,null,null,"1",null,"2","3",null,"4"]
["５",null,null,null,null,"1",null,"2","3",null,"4",null,"５",null,null,null,null,"1",null,"2","3",null,"4",null,"５",null,null,null,null,"1",null,"2","3",null,"4"]
["６",null,null,null,null,"1",null,"2","3",null,"4",null,"６",null,null,null,null,"1",null,"2","3",null,"4",null,"６",null,null,null,null,"1",null,"2","3",null,"4"]
["1 2 3 4 5 6 7 8 9 10 11 12 13 14 15 16 17 18 19 20 21 22 23 24 25 26 27 28 29 30 31 32 33",null,null,null,null,null,null,null,null,null,null,null,"1 2 3 4 5 6 7 8 9 10 11 12 13 14 15 16 17 18 19 20 21 22 23 24 25 26 27 28 29 30 31 32 33",null,null,null,null,null,null,null,null,null,null,null,"1 2 3 4 5 6 7 8 9 10 11 12 13 14 15 16 17 18 19 20 21 22 23 24 25 26 27 28 29 30 31 32 33"]
["控え選手",null,null,null,"ﾀｲﾑ","1",":",null,"２",":",null,null,"控え選手",null,null,null,"ﾀｲﾑ","1",":",null,"２",":",null,null,"控え選手",null,null,null,"ﾀｲﾑ","1",":",null,"２",":"]
[null,null,null,null,"監督サイン",null,null,null,null,null,null,null,null,null,null,null,"監督サイン",null,null,null,null,null,null,null,null,null,null,null,"監督サイン"]

{"sheet":"IF用紙","index":4,"n_rows":79,"n_cols":15,"rows_kept":79,"cut":false,"hidden":false,"merged":[]}
["　エントリー用紙　　　エントリー用紙",null,null,null,null,"　エントリー用紙　　　エントリー用紙",null,null,null,null,"　エントリー用紙　　　エントリー用紙"]
[null,{"$f":"エントリーシート!$D$4","v":0},null,null,{"$f":"+B2","v":0},null,{"$f":"+B2","v":0},null,null,{"$f":"+B2","v":0},null,{"$f":"+B2","v":0},null,null,{"$f":"+B2","v":0}]
["番号","氏名",null,"番号","氏名","番号","氏名",null,"番号","氏名","番号","氏名",null,"番号","氏名"]
[{"$f":"+(入力!B23)","v":"①"},{"$f":"+(入力!C23)","v":0},null,{"$f":"+A4","v":"①"},{"$f":"+B4","v":0},{"$f":"+A4","v":"①"},{"$f":"+B4","v":0},null,{"$f":"+D4","v":"①"},0,"①",0,null,{"$f":"+I4","v":"①"},0]
[{"$f":"+(入力!B24)","v":2},{"$f":"+(入力!C24)","v":0},null,{"$f":"+A5","v":2},0,{"$f":"+A5","v":2},0,null,2,0,2,0,null,2,0]
[{"$f":"+(入力!B25)","v":3},{"$f":"+(入力!C25)","v":0},null,3,0,3,0,null,3,0,3,0,null,3,0]
[{"$f":"+(入力!B26)","v":4},{"$f":"+(入力!C26)","v":0},null,4,0,4,0,null,4,0,4,0,null,4,0]
[{"$f":"+(入力!B27)","v":5},{"$f":"+(入力!C27)","v":0},null,5,0,5,0,null,5,0,5,0,null,5,0]
[{"$f":"+(入力!B28)","v":6},{"$f":"+(入力!C28)","v":0},null,6,0,6,0,null,6,0,6,0,null,6,0]
[{"$f":"+(入力!B29)","v":7},{"$f":"+(入力!C29)","v":0},null,7,0,7,0,null,7,0,7,0,null,7,0]
[{"$f":"+(入力!B30)","v":8},{"$f":"+(入力!C30)","v":0},null,8,0,8,0,null,8,0,8,0,null,8,0]
[{"$f":"+(入力!B31)","v":9},{"$f":"+(入力!C31)","v":0},null,9,0,9,0,null,9,0,9,0,null,9,0]
[{"$f":"+(入力!B32)","v":10},{"$f":"+(入力!C32)","v":0},null,10,0,10,0,null,10,0,10,0,null,10,0]
[{"$f":"+(入力!B33)","v":11},{"$f":"+(入力!C33)","v":0},null,11,0,11,0,null,11,0,11,0,null,11,0]
[{"$f":"+(入力!B34)","v":12},{"$f":"+(入力!C34)","v":0},null,{"$f":"+A15","v":12},{"$f":"+B15","v":0},{"$f":"+A15","v":12},{"$f":"+B15","v":0},null,{"$f":"+D15","v":12},{"$f":"+E15","v":0},{"$f":"+F15","v":12},{"$f":"+G15","v":0},null,{"$f":"+I15","v":12},{"$f":"+J15","v":0}]
[{"$f":"+(入力!B35)","v":0},{"$f":"+(入力!C35)","v":0},null,0,0,0,0,null,0,0,0,0,null,0,0]
[{"$f":"+(入力!B36)","v":0},{"$f":"+(入力!C36)","v":0},null,0,0,0,0,null,0,0,0,0,null,0,0]
[{"$f":"+(入力!B37)","v":0},{"$f":"+(入力!C37)","v":0},null,0,0,0,0,null,0,0,0,0,null,0,0]
[{"$f":"+(入力!B38)","v":0},{"$f":"+(入力!C38)","v":0},null,0,0,0,0,null,0,0,0,0,null,0,0]
[]
["　エントリー用紙　　　エントリー用紙",null,null,null,null,"　エントリー用紙　　　エントリー用紙",null,null,null,null,"　エントリー用紙　　　エントリー用紙"]
[null,{"$f":"+B2","v":0},null,null,{"$f":"+B2","v":0},null,{"$f":"+B2","v":0},null,null,{"$f":"+B2","v":0},null,{"$f":"+B2","v":0},null,null,{"$f":"+B2","v":0}]
["番号","氏名",null,"番号","氏名","番号","氏名",null,"番号","氏名","番号","氏名",null,"番号","氏名"]
[{"$f":"+A4","v":"①"},0,null,{"$f":"+D4","v":"①"},0,"①",0,null,{"$f":"+I4","v":"①"},0,"①",0,null,{"$f":"+N4","v":"①"},0]
[2,0,null,2,0,2,0,null,2,0,2,0,null,2,0]
[3,0,null,3,0,3,0,null,3,0,3,0,null,3,0]
[4,0,null,4,0,4,0,null,4,0,4,0,null,4,0]
[5,0,null,5,0,5,0,null,5,0,5,0,null,5,0]
[6,0,null,6,0,6,0,null,6,0,6,0,null,6,0]
[7,0,null,7,0,7,0,null,7,0,7,0,null,7,0]
[8,0,null,8,0,8,0,null,8,0,8,0,null,8,0]
[9,0,null,9,0,9,0,null,9,0,9,0,null,9,0]
[10,0,null,10,0,10,0,null,10,0,10,0,null,10,0]
[11,0,null,11,0,11,0,null,11,0,11,0,null,11,0]
[{"$f":"+A15","v":12},0,null,{"$f":"+D15","v":12},0,12,0,null,{"$f":"+I15","v":12},0,12,0,null,{"$f":"+N15","v":12},0]
[{"$f":"+A16","v":0},0,null,{"$f":"+D16","v":0},0,0,0,null,{"$f":"+I16","v":0},0,0,0,null,{"$f":"+N16","v":0},0]
[{"$f":"+A17","v":0},0,null,{"$f":"+D17","v":0},0,0,0,null,{"$f":"+I17","v":0},0,0,0,null,{"$f":"+N17","v":0},0]
[{"$f":"+A18","v":0},0,null,{"$f":"+D18","v":0},0,0,0,null,{"$f":"+I18","v":0},0,0,0,null,{"$f":"+N18","v":0},0]
[{"$f":"+A19","v":0},0,null,{"$f":"+D19","v":0},0,0,0,null,{"$f":"+I19","v":0},0,0,0,null,{"$f":"+N19","v":0},0]
[]
["　エントリー用紙　　　エントリー用紙",null,null,null,null,"　エントリー用紙　　　エントリー用紙",null,null,null,null,"　エントリー用紙　　　エントリー用紙"]
[null,{"$f":"+B2","v":0},null,null,{"$f":"+B2","v":0},null,{"$f":"+B2","v":0},null,null,{"$f":"+B2","v":0},null,{"$f":"+B2","v":0},null,null,{"$f":"+B2","v":0}]
["番号","氏名",null,"番号","氏名","番号","氏名",null,"番号","氏名","番号","氏名",null,"番号","氏名"]
[{"$f":"+A24","v":"①"},0,null,{"$f":"+D24","v":"①"},0,"①",0,null,{"$f":"+I24","v":"①"},0,"①",0,null,{"$f":"+N24","v":"①"},0]
[2,0,null,2,0,2,0,null,2,0,2,0,null,2,0]
[3,0,null,3,0,3,0,null,3,0,3,0,null,3,0]
[4,0,null,4,0,4,0,null,4,0,4,0,null,4,0]
[5,0,null,5,0,5,0,null,5,0,5,0,null,5,0]
[6,0,null,6,0,6,0,null,6,0,6,0,null,6,0]
[7,0,null,7,0,7,0,null,7,0,7,0,null,7,0]
[8,0,null,8,0,8,0,null,8,0,8,0,null,8,0]
[9,0,null,9,0,9,0,null,9,0,9,0,null,9,0]
[10,0,null,10,0,10,0,null,10,0,10,0,null,10,0]
[11,0,null,11,0,11,0,null,11,0,11,0,null,11,0]
[{"$f":"+A35","v":12},0,null,{"$f":"+D35","v":12},0,12,0,null,{"$f":"+I35","v":12},0,12,0,null,{"$f":"+N35","v":12},0]
[{"$f":"+A36","v":0},0,null,{"$f":"+D36","v":0},0,0,0,null,{"$f":"+I36","v":0},0,0,0,null,{"$f":"+N36","v":0},0]
[{"$f":"+A37","v":0},0,null,{"$f":"+D37","v":0},0,0,0,null,{"$f":"+I37","v":0},0,0,0,null,{"$f":"+N37","v":0},0]
[{"$f":"+A38","v":0},0,null,{"$f":"+D38","v":0},0,0,0,null,{"$f":"+I38","v":0},0,0,0,null,{"$f":"+N38","v":0},0]
[{"$f":"+A39","v":0},0,null,{"$f":"+D39","v":0},0,0,0,null,{"$f":"+I39","v":0},0,0,0,null,{"$f":"+N39","v":0},0]
[null,{"$f":"+B20","v":0},null,null,{"$f":"+B20","v":0},null,{"$f":"+B20","v":0},null,null,{"$f":"+B20","v":0},null,{"$f":"+B20","v":0},null,null,{"$f":"+B20","v":0}]
["番号","氏名",null,"番号","氏名","番号","氏名",null,"番号","氏名","番号","氏名",null,"番号","氏名"]
[null,{"$f":"+B42","v":0},null,null,{"$f":"+E42","v":0},null,{"$f":"+G42","v":0},null,null,{"$f":"+J42","v":0},null,{"$f":"+L42","v":0},null,null,{"$f":"+O42","v":0}]
[{"$f":"+A43","v":"番号"},"氏名",null,{"$f":"+D43","v":"番号"},"氏名",{"$f":"+F43","v":"番号"},"氏名",null,{"$f":"+I43","v":"番号"},"氏名",{"$f":"+K43","v":"番号"},"氏名",null,{"$f":"+N43","v":"番号"},"氏名"]
["①",0,null,"①",0,"①",0,null,"①",0,"①",0,null,"①",0]
[2,0,null,2,0,2,0,null,2,0,2,0,null,2,0]
[3,0,null,3,0,3,0,null,3,0,3,0,null,3,0]
[4,0,null,4,0,4,0,null,4,0,4,0,null,4,0]
[5,0,null,5,0,5,0,null,5,0,5,0,null,5,0]
[6,0,null,6,0,6,0,null,6,0,6,0,null,6,0]
[7,0,null,7,0,7,0,null,7,0,7,0,null,7,0]
[8,0,null,8,0,8,0,null,8,0,8,0,null,8,0]
[9,0,null,9,0,9,0,null,9,0,9,0,null,9,0]
[10,0,null,10,0,10,0,null,10,0,10,0,null,10,0]
[11,0,null,11,0,11,0,null,11,0,11,0,null,11,0]
[{"$f":"+A55","v":12},0,null,{"$f":"+D55","v":12},0,12,0,null,{"$f":"+I55","v":12},0,12,0,null,{"$f":"+N55","v":12},0]
[{"$f":"+A56","v":0},0,null,{"$f":"+D56","v":0},0,0,0,null,{"$f":"+I56","v":0},0,0,0,null,{"$f":"+N56","v":0},0]
[{"$f":"+A57","v":0},0,null,{"$f":"+D57","v":0},0,0,0,null,{"$f":"+I57","v":0},0,0,0,null,{"$f":"+N57","v":0},0]
[{"$f":"+A58","v":0},0,null,{"$f":"+D58","v":0},0,0,0,null,{"$f":"+I58","v":0},0,0,0,null,{"$f":"+N58","v":0},0]
[{"$f":"+A59","v":0},0,null,{"$f":"+D59","v":0},0,0,0,null,{"$f":"+I59","v":0},0,0,0,null,{"$f":"+N59","v":0},0]

{"sheet":"エントリー変更用紙","index":5,"n_rows":37,"n_cols":10,"rows_kept":37,"cut":false,"hidden":false,"merged":[[1,0,3,9],[9,0,10,0],[9,1,10,9],[13,1,13,4],[13,5,13,8],[6,0,7,0],[6,1,7,9],[16,1,17,4],[16,5,17,8],[18,1,19,4],[18,5,19,8],[14,1,15,4],[14,5,15,8],[24,4,25,4],[24,9,25,9],[24,5,25,8],[20,0,20,9],[21,1,21,3],[21,5,21,8],[22,4,23,4],[22,9,23,9],[22,5,23,8],[28,4,29,4],[28,9,29,9],[28,5,29,8],[26,4,27,4],[26,9,27,9],[26,5,27,8],[32,4,33,4],[32,9,33,9],[32,1,33,3],[32,5,33,8],[30,4,31,4],[30,9,31,9],[30,5,31,8],[36,4,37,4],[36,9,37,9],[36,1,37,3],[36,5,37,8],[34,4,35,4],[34,9,35,9],[34,1,35,3],[34,5,35,8],[14,0,15,0],[16,0,17,0],[18,0,19,0],[22,0,23,0],[24,0,25,0],[36,0,37,0],[22,1,23,3],[24,1,25,3],[26,1,27,3],[28,1,29,3],[30,1,31,3],[26,0,27,0],[28,0,29,0],[30,0,31,0],[32,0,33,0],[34,0,35,0]]}
[]
["エントリー変更用紙"]
[]
[]
[]
[]
["大会名：",{"$f":"+(入力!C2)","v":"第133回那覇市小学生バレーボール大会"}]
[]
[]
["チーム名：",{"$f":"エントリーシート!$D$4","v":0}]
[]
[]
[]
[null,"旧",null,null,null,"新"]
["監督",{"$f":"+(入力!C16)","v":0}]
[]
["コーチ",{"$f":"+(入力!C17)","v":0}]
[]
["マネージャー",{"$f":"+(入力!C18)","v":0}]
[]
["　　変　　更　　選　　手　　　"]
[null,"旧",null,null,"背番号","新",null,null,null,"背番号"]
["氏名"]
[]
["氏名"]
[]
["氏名"]
[]
["氏名"]
[]
["氏名"]
[]
["氏名"]
[]
["氏名"]
[]
["氏名"]